BEGIN:VCALENDAR
VERSION:2.0
PRODID:-// - ECPv6.15.20//NONSGML v1.0//EN
CALSCALE:GREGORIAN
METHOD:PUBLISH
X-ORIGINAL-URL:https://cascadecountydemocrats.org
X-WR-CALDESC:Events for 
REFRESH-INTERVAL;VALUE=DURATION:PT1H
X-Robots-Tag:noindex
X-PUBLISHED-TTL:PT1H
BEGIN:VTIMEZONE
TZID:America/Denver
BEGIN:DAYLIGHT
TZOFFSETFROM:-0700
TZOFFSETTO:-0600
TZNAME:MDT
DTSTART:20250309T090000
END:DAYLIGHT
BEGIN:STANDARD
TZOFFSETFROM:-0600
TZOFFSETTO:-0700
TZNAME:MST
DTSTART:20251102T080000
END:STANDARD
BEGIN:DAYLIGHT
TZOFFSETFROM:-0700
TZOFFSETTO:-0600
TZNAME:MDT
DTSTART:20260308T090000
END:DAYLIGHT
BEGIN:STANDARD
TZOFFSETFROM:-0600
TZOFFSETTO:-0700
TZNAME:MST
DTSTART:20261101T080000
END:STANDARD
BEGIN:DAYLIGHT
TZOFFSETFROM:-0700
TZOFFSETTO:-0600
TZNAME:MDT
DTSTART:20270314T090000
END:DAYLIGHT
BEGIN:STANDARD
TZOFFSETFROM:-0600
TZOFFSETTO:-0700
TZNAME:MST
DTSTART:20271107T080000
END:STANDARD
END:VTIMEZONE
BEGIN:VEVENT
DTSTART;TZID=America/Denver:20260421T180000
DTEND;TZID=America/Denver:20260421T193000
DTSTAMP:20260420T023419
CREATED:20260418T192317Z
LAST-MODIFIED:20260418T192317Z
UID:5526-1776794400-1776799800@cascadecountydemocrats.org
SUMMARY:Postcard Writing
DESCRIPTION:Come join us and write some postcards. \nHosted by Lela Graham (HD 21) and Valynda Holland (SD 11).
URL:https://cascadecountydemocrats.org/event/postcard-writing-2/
LOCATION:Great Falls Labor Temple\, 1112 7th St S\, Great Falls\, MT\, United States
ATTACH;FMTTYPE=image/jpeg:https://cascadecountydemocrats.org/wp-content/uploads/2026/04/postcard-writing.jpg
END:VEVENT
BEGIN:VEVENT
DTSTART;TZID=America/Denver:20260427T180000
DTEND;TZID=America/Denver:20260427T200000
DTSTAMP:20260420T023419
CREATED:20260418T193030Z
LAST-MODIFIED:20260418T202730Z
UID:5529-1777312800-1777320000@cascadecountydemocrats.org
SUMMARY:Legislative Advocacy Training
DESCRIPTION:Montana Farmers Union event. \n“As Montana’s oldest and largest grassroots agriculture organization\, the Farmers Union wants to help our members and members of our communities become comfortable with the legislative progress and advocating for themselves. This training will be focused on teaching how the state and federal legislature operates\, demonstrating aspects on the Montana legislature website\, and giving tools for different avenues to make their voice heard.” \nRegistration required.
URL:https://cascadecountydemocrats.org/event/legislative-advocacy-training/
LOCATION:511 Center\, 511 Central Ave\, Great Falls\, MT\, United States
ATTACH;FMTTYPE=image/jpeg:https://cascadecountydemocrats.org/wp-content/uploads/2026/04/legislative-action.jpg
END:VEVENT
BEGIN:VEVENT
DTSTART;TZID=America/Denver:20260428T180000
DTEND;TZID=America/Denver:20260428T200000
DTSTAMP:20260420T023419
CREATED:20260419T153440Z
LAST-MODIFIED:20260419T153440Z
UID:5557-1777399200-1777406400@cascadecountydemocrats.org
SUMMARY:Candidate Town Hall
DESCRIPTION:Come meet your 2026 Democratic candidates and see where they stand on issues that matter to you.
URL:https://cascadecountydemocrats.org/event/candidate-town-hall/
LOCATION:Great Falls Rec Center\, 801 2nd Ave N\, Great Falls\, MT\, United States
ATTACH;FMTTYPE=image/jpeg:https://cascadecountydemocrats.org/wp-content/uploads/2026/04/april_28_town_hall.jpg
END:VEVENT
BEGIN:VEVENT
DTSTART;TZID=America/Denver:20260429T180000
DTEND;TZID=America/Denver:20260429T193000
DTSTAMP:20260420T023419
CREATED:20260418T194142Z
LAST-MODIFIED:20260418T194142Z
UID:5536-1777485600-1777491000@cascadecountydemocrats.org
SUMMARY:Judicial Independence - Are Our Courts Under Threat?
DESCRIPTION:Event co-sponsored by Big Sky 55+\, Great Falls Rising\, and Wildly United\nPanelist discussion about judicial independence and the implications of putting partisan labels on judicial candidates. \nDoors open 5:30 pm
URL:https://cascadecountydemocrats.org/event/judicial-independence-are-our-courts-under-threat/
LOCATION:Celtic Cowboy\, 116 1st Ave S\, Great Falls\, 59401\, United States
ATTACH;FMTTYPE=image/jpeg:https://cascadecountydemocrats.org/wp-content/uploads/2026/04/judicial-independence.jpg
END:VEVENT
BEGIN:VEVENT
DTSTART;TZID=America/Denver:20260505T080000
DTEND;TZID=America/Denver:20260505T093000
DTSTAMP:20260420T023419
CREATED:20260306T162201Z
LAST-MODIFIED:20260412T165716Z
UID:5265-1777968000-1777973400@cascadecountydemocrats.org
SUMMARY:Monthly CCDCC Breakfast
DESCRIPTION:Come join us for a no host breakfast to socialize with your fellow Democrats. This is a CASH ONLY venue.
URL:https://cascadecountydemocrats.org/event/monthly-ccdcc-breakfast-april-2026/
LOCATION:Great Falls Senior Center\, 1004 Central Ave\, Great Falls\, MT\, 59401\, United States
ATTACH;FMTTYPE=image/jpeg:https://cascadecountydemocrats.org/wp-content/uploads/2026/02/breakfast.jpg
END:VEVENT
BEGIN:VEVENT
DTSTART;TZID=America/Denver:20260506T173000
DTEND;TZID=America/Denver:20260506T190000
DTSTAMP:20260420T023419
CREATED:20260418T200605Z
LAST-MODIFIED:20260418T200605Z
UID:5548-1778088600-1778094000@cascadecountydemocrats.org
SUMMARY:Phone Banking
DESCRIPTION:Help us call voters.
URL:https://cascadecountydemocrats.org/event/phone-banking/
LOCATION:Great Falls Labor Temple\, 1112 7th St S\, Great Falls\, MT\, United States
ATTACH;FMTTYPE=image/jpeg:https://cascadecountydemocrats.org/wp-content/uploads/2026/04/telephone_operators.jpg
END:VEVENT
BEGIN:VEVENT
DTSTART;TZID=America/Denver:20260509T110000
DTEND;TZID=America/Denver:20260509T130000
DTSTAMP:20260420T023419
CREATED:20260418T200922Z
LAST-MODIFIED:20260418T200922Z
UID:5550-1778324400-1778331600@cascadecountydemocrats.org
SUMMARY:Sign Blitz
DESCRIPTION:Help us make signs
URL:https://cascadecountydemocrats.org/event/sign-blitz/
LOCATION:Great Falls Labor Temple\, 1112 7th St S\, Great Falls\, MT\, United States
END:VEVENT
BEGIN:VEVENT
DTSTART;TZID=America/Denver:20260521T183000
DTEND;TZID=America/Denver:20260521T200000
DTSTAMP:20260420T023419
CREATED:20260320T151028Z
LAST-MODIFIED:20260417T160608Z
UID:5297-1779388200-1779393600@cascadecountydemocrats.org
SUMMARY:Monthly CCDCC Meeting
DESCRIPTION:Come join us to help improve our visibility and voter outreach\, and plan for 2026. Note our new general meeting start time\, 6:30 p.m. In person or  Virtually via Zoom (passcode 124877).
URL:https://cascadecountydemocrats.org/event/monthly-ccdcc-meeting-2/
LOCATION:Great Falls Senior Center\, 1004 Central Ave\, Great Falls\, MT\, 59401\, United States
ATTACH;FMTTYPE=image/jpeg:https://cascadecountydemocrats.org/wp-content/uploads/2021/07/1231556_736813329669075_1234723139_n-1.jpg
END:VEVENT
END:VCALENDAR